BEGIN:VCALENDAR
VERSION:2.0
PRODID:-//Happy Life Animal Rescue - ECPv6.15.17.1//NONSGML v1.0//EN
CALSCALE:GREGORIAN
METHOD:PUBLISH
X-WR-CALNAME:Happy Life Animal Rescue
X-ORIGINAL-URL:https://happylifeanimalrescue.org
X-WR-CALDESC:Events for Happy Life Animal Rescue
REFRESH-INTERVAL;VALUE=DURATION:PT1H
X-Robots-Tag:noindex
X-PUBLISHED-TTL:PT1H
BEGIN:VTIMEZONE
TZID:America/New_York
BEGIN:DAYLIGHT
TZOFFSETFROM:-0500
TZOFFSETTO:-0400
TZNAME:EDT
DTSTART:20250309T070000
END:DAYLIGHT
BEGIN:STANDARD
TZOFFSETFROM:-0400
TZOFFSETTO:-0500
TZNAME:EST
DTSTART:20251102T060000
END:STANDARD
BEGIN:DAYLIGHT
TZOFFSETFROM:-0500
TZOFFSETTO:-0400
TZNAME:EDT
DTSTART:20260308T070000
END:DAYLIGHT
BEGIN:STANDARD
TZOFFSETFROM:-0400
TZOFFSETTO:-0500
TZNAME:EST
DTSTART:20261101T060000
END:STANDARD
BEGIN:DAYLIGHT
TZOFFSETFROM:-0500
TZOFFSETTO:-0400
TZNAME:EDT
DTSTART:20270314T070000
END:DAYLIGHT
BEGIN:STANDARD
TZOFFSETFROM:-0400
TZOFFSETTO:-0500
TZNAME:EST
DTSTART:20271107T060000
END:STANDARD
END:VTIMEZONE
BEGIN:VEVENT
DTSTART;TZID=America/New_York:20260207T110000
DTEND;TZID=America/New_York:20260207T140000
DTSTAMP:20260421T131004
CREATED:20260203T161458Z
LAST-MODIFIED:20260203T161458Z
UID:2958-1770462000-1770472800@happylifeanimalrescue.org
SUMMARY:Petco Brookfield Adoptions of February
DESCRIPTION:🐾 Dog Adoption Event at Petco Brookfield\, CT\n  \nSaturday\, February 7 | 11:00 AM – 2:00 PM \nLooking to add a little more love (and maybe some muddy paw prints) to your life? Join Happy Life Animal Rescue for a dog adoption event this Saturday\, February 7th\, at Petco\, from 11:00 AM to 2:00 PM! \nWe’ll be bringing a great mix of adoptable dogs and puppies who are ready to meet their future families. Whether you’re actively looking to adopt or just want to learn more about the process\, this is the perfect chance to meet our team and our pups in person. \n\n🐶 What to Expect:\n  \n\n\n\nFriendly\, adoptable dogs & puppies \n\n\nOn-site adoption counselors to answer questions \n\n\nMeet-and-greets with potential new best friends \n\n\nA fun\, low-pressure environment to explore adoption \n\n\n  \nAll of our adoptable dogs are spayed or neutered\, vaccinated\, and microchipped\, and ready to start their next chapter. \n\n📍 Event Details:\n  \n📅 Date: Saturday\, February 7 \n⏰ Time: 11:00 AM – 2:00 PM \n📍 Location: Petco Brookfield \n📍 Address: Brookfield\, Connecticut \nIf you’ve been thinking about adopting a dog in Brookfield\, CT or the surrounding area\, this is a great opportunity to meet multiple dogs in one place and find your perfect match. \nCan’t adopt right now? That’s okay! Stop by to say hi\, learn about fostering or volunteering\, and support rescue dogs looking for homes. \n👉 Come meet your future best friend this Saturday at Petco Brookfield! \n\n\n 
URL:https://happylifeanimalrescue.org/event/petco-brookfield-adoptions-of-february/
LOCATION:Petco Brookfield\, 169 Federal Rd\, Brookfield\, CT\, 06804\, United States
END:VEVENT
BEGIN:VEVENT
DTSTART;TZID=America/New_York:20260214T140000
DTEND;TZID=America/New_York:20260214T180000
DTSTAMP:20260421T131004
CREATED:20260203T161833Z
LAST-MODIFIED:20260203T161833Z
UID:2960-1771077600-1771092000@happylifeanimalrescue.org
SUMMARY:Valentine’s Day Dog Adoptions at Lakeside Park
DESCRIPTION:💕 Valentine’s Day Dog Adoptions at Lakeside Park\n  \nSaturday\, February 14 | Pre-Event to Our Comedy Fundraiser \nLooking for a Valentine who won’t ghost you and thinks you’re perfect just the way you are? 🐾 \nJoin Happy Life Animal Rescue for Valentine’s Day adoptions on Saturday\, February 14th at Lakeside Park! from 2 – 6pm \nThis special Valentine’s Day adoption event is the perfect way to kick off a day full of love\, laughter\, and lifesaving—serving as the pre-event to our Valentine’s Day Comedy Show Fundraiser later that evening. \n\n🐶 What to Expect:\n\n\nA lineup of adorable\, adoptable dogs & puppies \n\n\nMeet-and-greets with potential forever loves \n\n\nOn-site adoption counselors to help find the right match \n\n\nA festive\, Valentine’s Day vibe (tails wagging guaranteed) \n\n\n  \nAll adoptable dogs are spayed or neutered\, vaccinated\, and microchipped\, and ready to head home with their forever families. \n\n❤️ Make It a Full Valentine’s Day:\n  \nStart your day by finding love at Valentine’s Day adoptions\, then keep the good vibes going by joining us later for our Valentine’s Day Comedy Show Fundraiser—because nothing says romance like rescue dogs and laughter. \n\n📍 Event Details:\n  \n📅 Date: Saturday\, February 14 \n📍 Location: Lakeside Park \n📍 Town: Pawling\, NY \n🐾 Event Type: Valentine’s Day Dog Adoptions \n🎤 Bonus: Pre-event to our Valentine’s Day Comedy Fundraiser \nWhether you’re looking for a date\, a best friend\, or just a reason to smile this Valentine’s Day\, this event has you covered. \n👉 Fall in love\, save a life\, and celebrate Valentine’s Day the rescue way.
URL:https://happylifeanimalrescue.org/event/valentines-day-dog-adoptions-at-lakeside-park/
LOCATION:lake side park\, 2 lake side drive\, pawling\, New York\, 12564\, United States
END:VEVENT
BEGIN:VEVENT
DTSTART;TZID=America/New_York:20260214T183000
DTEND;TZID=America/New_York:20260214T213000
DTSTAMP:20260421T131004
CREATED:20260203T162754Z
LAST-MODIFIED:20260203T162754Z
UID:2962-1771093800-1771104600@happylifeanimalrescue.org
SUMMARY:Puppy Love & Purrfect Punchlines
DESCRIPTION:😂 Valentine’s Day Comedy Show Fundraiser\nPuppy Love & Purrfect Punchlines \nFriday\, February 14 | Pawling\, NY \nLooking for a Valentine’s Day plan that doesn’t involve awkward prix-fixe dinners or forced romance? We’ve got you covered. Join Happy Life Animal Rescue for our Valentine’s Day Comedy Show Fundraiser\, a night packed with laughs\, love\, and lifesaving impact. \nThis adults-only comedy night is the perfect way to celebrate Valentine’s Day—whether it’s date night\, Galentine’s\, or just an excuse to laugh for a good cause. Every ticket helps support rescue dogs and cats right here in our community. \n\n🎟️ Get Your Tickets:\n  \n👉 Buy tickets here: \nhttps://www.funny4funds.com/events/puppy-love-purrfect-punchlines-a-barkentines-comedy-benefit/1746 \n\n🎤 Event Details:\n  \n📅 Date: Friday\, February 14 \n⏰ Doors Open: 6:30 PM \n🎭 Show Time: 7:00 PM – approximately 9:30 PM \n📍 Location: Pawling\, NY \n🔞 Age Requirement: 18+ \n\n🍹 What’s Included:\n\n\nA lineup of professional comedians \n\n\nAppetizers and light refreshments \n\n\nCash bar featuring beer\, wine\, and a special Valentine’s cocktail \n\n\nFun raffle prizes (yes… including a YETI cooler 👀) \n\n\nGreat vibes\, bigger laughs\, and an even better cause \n\n\n🐾 Make It a Full Valentine’s Day:\n  \nEarlier that day\, join us for Valentine’s Day dog adoptions at Lakeside Park\, then head straight into an evening of comedy that supports the very animals you met. Adopt. Laugh. Give back. Repeat. \nWhether you’re celebrating love\, friendship\, or just your excellent sense of humor\, this is a Valentine’s Day event that truly makes a difference. \n👉 Laugh loud. Love hard. Save lives.
URL:https://happylifeanimalrescue.org/event/valentines-day-fundraiser/
LOCATION:lake side park\, 2 lake side drive\, pawling\, New York\, 12564\, United States
END:VEVENT
BEGIN:VEVENT
DTSTART;TZID=America/New_York:20260221T120000
DTEND;TZID=America/New_York:20260221T150000
DTSTAMP:20260421T131004
CREATED:20260217T165812Z
LAST-MODIFIED:20260217T165812Z
UID:2966-1771675200-1771686000@happylifeanimalrescue.org
SUMMARY:Adopt Joy In Newburgh
DESCRIPTION:Adopt Joy Adoption Event in Newburgh\, NY – PetSmart | Saturday\, February 21 | 12–3 PM\n  \nLooking to adopt a dog in Newburgh\, NY? Join Happy Life Animal Rescue for our Adopt Joy Adoption Event at PetSmart in Newburgh on Saturday\, February 21 from 12:00 PM – 3:00 PM! \nWe’re bringing some of our adorable\, adoptable puppies and dogs to PetSmart for an afternoon full of tail wags\, happy tears\, and maybe your next best friend. 💙 \nIf you’ve been searching for: \n\n\n\nDog adoption events in Newburgh\, NY \n\n\nPuppies for adoption near Newburgh \n\n\nRescue dogs at PetSmart Newburgh \n\n\nHudson Valley dog adoption events \n\n\n  \n…this is your sign. \n\n📍 Event Location:\n  \nPetSmart – Newburgh\, NY \n(Stop by anytime between 12–3 PM!) \n\n🐶 Who You’ll Meet\n  \nWe’ll have a variety of puppies and young dogs available for adoption. Our team will be there to answer questions\, help match you with the right pup\, and walk you through the adoption process. \nEvery dog adopted from Happy Life Animal Rescue: \n\n\n\nIs up-to-date on age-appropriate vaccinations \n\n\nHas begun the deworming process \n\n\nIs microchipped \n\n\nHas been lovingly cared for while waiting for their forever home \n\n\n  \n\n💙 Why Adopt in Newburgh?\n  \nAdopting from a local adoption event in Newburgh means you can: \n\n\n\nMeet the dogs in person \n\n\nAsk our team questions face-to-face \n\n\nFind the right fit for your family \n\n\nMake a real impact in the Hudson Valley rescue community \n\n\n  \nThere’s nothing better than walking into PetSmart in Newburgh and walking out with your new best friend. \n\nReady to Adopt?\n  \nWe recommend: \n\n\n\nBringing all household members \n\n\nBringing proof of home ownership or landlord approval \n\n\nFilling out an adoption application in advance (if available on your site) \n\n\n  \n\n\n  \nWhether you’re just starting your search for a rescue dog in Newburgh\, NY or you’ve been waiting for the perfect pup\, we can’t wait to see you at our Adopt Joy PetSmart Newburgh Adoption Event on February 21 from 12–3 PM. \nCome meet your match. Come Adopt Joy. 🐾💙
URL:https://happylifeanimalrescue.org/event/adopt-joy-in-newburgh/
LOCATION:Petsmart Newburgh\, 156 Old Little Britain Rd\, Newburgh\, NY\, 12550\, United States
END:VEVENT
BEGIN:VEVENT
DTSTART;TZID=America/New_York:20260228T120000
DTEND;TZID=America/New_York:20260228T150000
DTSTAMP:20260421T131004
CREATED:20260217T170317Z
LAST-MODIFIED:20260217T170317Z
UID:2968-1772280000-1772290800@happylifeanimalrescue.org
SUMMARY:February PetSmart Mohegan Adoptions
DESCRIPTION:Dog Adoption Event in Mohegan Lake\, NY – PetSmart | Saturday\, February 28\n  \nLooking to adopt a dog in Mohegan Lake\, NY? Join Happy Life Animal Rescue for a fun and heartwarming Dog Adoption Event at PetSmart in Mohegan Lake on Saturday\, February 28! \nIf you’ve been searching for: \n\n\n\nDog adoption events in Mohegan Lake \n\n\nPuppies for adoption near Mohegan Lake\, NY \n\n\nPetSmart adoption events in Westchester County \n\n\nRescue dogs near Yorktown or Cortlandt \n\n\n  \nThis is your moment. \n\n📍 Event Location:\n  \nPetSmart – Mohegan Lake\, NY \n(Swing by during event hours!) \nWe’ll be bringing a group of sweet\, adoptable puppies and dogs who are ready to find their forever homes. Whether you’re looking for a playful pup\, a cuddly companion\, or a family-friendly best friend\, we may just have your perfect match waiting. \n\n🐾 Why Attend This Mohegan Lake Adoption Event?\n  \n✔️ Meet adoptable rescue dogs in person \n✔️ Talk directly with our team about temperament and fit \n✔️ Learn about the adoption process \n✔️ Support local dog rescue efforts in the Hudson Valley \nEvery dog adopted from Happy Life Animal Rescue: \n\n\n\nIs up-to-date on age-appropriate vaccinations \n\n\nHas started the deworming process \n\n\nIs microchipped \n\n\nHas received loving care while waiting for a home \n\n\n  \n\nAdopt Local in Mohegan Lake\n  \nAdopting at a PetSmart adoption event in Mohegan Lake makes it easy to meet your future best friend close to home. Families from Mohegan Lake\, Yorktown\, Cortlandt Manor\, Peekskill\, and surrounding Westchester County communities are welcome! \nBring the whole household so everyone can meet your potential new pup. \n\n\n  \nIf you’re ready to adopt a rescue dog in Mohegan Lake\, NY\, mark your calendar for Saturday\, February 28 at PetSmart Mohegan Lake. \nYour couch is missing something… probably a dog. 🐶💙
URL:https://happylifeanimalrescue.org/event/february-petsmart-mohegan-adoptions/
LOCATION:PetSmart Mohegan
END:VEVENT
END:VCALENDAR