BEGIN:VCALENDAR
VERSION:2.0
PRODID:-//Happy Life Animal Rescue - ECPv6.15.17.1//NONSGML v1.0//EN
CALSCALE:GREGORIAN
METHOD:PUBLISH
X-WR-CALNAME:Happy Life Animal Rescue
X-ORIGINAL-URL:https://happylifeanimalrescue.org
X-WR-CALDESC:Events for Happy Life Animal Rescue
REFRESH-INTERVAL;VALUE=DURATION:PT1H
X-Robots-Tag:noindex
X-PUBLISHED-TTL:PT1H
BEGIN:VTIMEZONE
TZID:America/New_York
BEGIN:DAYLIGHT
TZOFFSETFROM:-0500
TZOFFSETTO:-0400
TZNAME:EDT
DTSTART:20240310T070000
END:DAYLIGHT
BEGIN:STANDARD
TZOFFSETFROM:-0400
TZOFFSETTO:-0500
TZNAME:EST
DTSTART:20241103T060000
END:STANDARD
BEGIN:DAYLIGHT
TZOFFSETFROM:-0500
TZOFFSETTO:-0400
TZNAME:EDT
DTSTART:20250309T070000
END:DAYLIGHT
BEGIN:STANDARD
TZOFFSETFROM:-0400
TZOFFSETTO:-0500
TZNAME:EST
DTSTART:20251102T060000
END:STANDARD
BEGIN:DAYLIGHT
TZOFFSETFROM:-0500
TZOFFSETTO:-0400
TZNAME:EDT
DTSTART:20260308T070000
END:DAYLIGHT
BEGIN:STANDARD
TZOFFSETFROM:-0400
TZOFFSETTO:-0500
TZNAME:EST
DTSTART:20261101T060000
END:STANDARD
END:VTIMEZONE
BEGIN:VEVENT
DTSTART;TZID=America/New_York:20251204T180000
DTEND;TZID=America/New_York:20251204T190000
DTSTAMP:20260421T203240
CREATED:20251117T185618Z
LAST-MODIFIED:20251117T185618Z
UID:2918-1764871200-1764874800@happylifeanimalrescue.org
SUMMARY:Volunteer Orientation – Join Happy Life Animal Rescue This December!
DESCRIPTION:📅 Thursday\, December 4 \n⏰ 6:00 PM \n📍 Happy Life Animal Rescue Adoption Center — 550 Route 22\, Pawling\, NY \nStart the holiday season by giving back in the best way possible — helping animals! Join us on Thursday\, December 4for our next Volunteer Orientation at the Happy Life Animal Rescue Adoption Center in Pawling\, NY. \nIf you’ve been thinking about getting involved\, this is your moment! Whether you want to walk dogs\, help with cat care\, assist during adoption events\, support transports\, or lend a hand behind the scenes\, this orientation will set you up for success. \n\n🐾 What You’ll Learn at Orientation\n  \n\n\n\nOverview of our rescue mission and how our team works \n\n\nVolunteer opportunities: animal care\, events\, fostering\, transport & more \n\n\nSafety guidelines and proper animal handling \n\n\nHow to sign up for shifts and stay connected \n\n\nA chance to meet our team and ask questions \n\n\n  \n\nWho Can Volunteer?\n  \n\n\n\nAdults\, families\, and teens (with a guardian) \n\n\nStudents needing volunteer hours \n\n\nAnyone looking for Hudson Valley animal rescue volunteer opportunities \n\n\nPeople who want to make a meaningful difference for dogs and cats in need \n\n\n  \nNo experience required — just come with enthusiasm\, compassion\, and maybe clothes you don’t mind getting a little furry. \n\n\n  \n\n💛 Ready to Help Save Lives?\n  \nJoin us on Thursday\, December 4 at 6 PM at: \nHappy Life Animal Rescue \n550 Route 22 \nPawling\, NY 12564 \nYour time and heart can change an animal’s entire world — we’d love to have you on the team!
URL:https://happylifeanimalrescue.org/event/volunteer-orientation-join-happy-life-animal-rescue-this-december/
LOCATION:Happy Life Animal Rescue Adoption Center\, 550 Route 22\, Pawling\, New York\, 12564\, United States
END:VEVENT
BEGIN:VEVENT
DTSTART;TZID=America/New_York:20251129T110000
DTEND;TZID=America/New_York:20251129T150000
DTSTAMP:20260421T203240
CREATED:20251125T233558Z
LAST-MODIFIED:20251126T163247Z
UID:2922-1764414000-1764428400@happylifeanimalrescue.org
SUMMARY:Black Fur-day Adoption Bash
DESCRIPTION:Happy Life Animal Rescue Adoption Center – Pawling\, NY \n11 AM – 3 PM \nShake off that post-Thanksgiving food coma and come spend your Saturday with some furry friends! We’re opening our doors for a special adoption day packed with adorable animals\, holiday vibes\, and some awesome giveaways you won’t want to miss. \n🎁 \nPost-Holiday Adoption Special!\n  \nAdopt a dog on Saturday and you’ll go home with a FREE dog bed\, sweater\, and harness — while supplies last! Think of it as your pup’s “Welcome Home” starter pack. \n🐶 \nMeet Your New Best Friend\n  \nWe’ll have a great lineup of sweet dogs ready to charm their way straight into your heart (and maybe onto your couch). Whether you’re looking for a snuggle buddy\, a walking partner\, or a holiday-season sidekick\, we’ve got someone eager to meet you. \n📍 \nWhere to Find Us\n  \nHappy Life Animal Rescue Adoption Center \n550 Route 22\, Pawling\, NY \nTime: 11 AM – 3 PM \nBring the family\, bring a friend\, bring someone who said they weren’t adopting but definitely will after five minutes inside the building — you know the type. \nCome kick off the holiday season the happiest way possible: by giving a rescue animal a home. 💛
URL:https://happylifeanimalrescue.org/event/black-fur-day-adoption-bash/
LOCATION:Happy Life Animal Rescue Adoption Center\, 550 Route 22\, Pawling\, New York\, 12564\, United States
END:VEVENT
BEGIN:VEVENT
DTSTART;TZID=America/New_York:20251122T170000
DTEND;TZID=America/New_York:20251122T190000
DTSTAMP:20260421T203240
CREATED:20251117T185202Z
LAST-MODIFIED:20251117T185202Z
UID:2913-1763830800-1763838000@happylifeanimalrescue.org
SUMMARY:Mahopac Thanksgiving Parade Pet Adoption Event — Saturday\, November 22
DESCRIPTION:📅 Saturday\, November 22 \n⏰ 5 PM – 7 PM \n📍 Mahopac Thanksgiving Parade — Find Us by the Mahopac Fire Department \nCelebrate the holiday season with Happy Life Animal Rescue at the Mahopac Thanksgiving Day Parade! We’re bringing adorable\, adoptable dogs to join in the fun — and who knows\, you might just meet the furry friend you’ve been waiting for. \nThis special evening event is the perfect blend of community\, celebration\, and second chances. While you enjoy the festive floats\, holiday lights\, and hometown cheer\, stop by our spot near the Mahopac Fire Department to meet some of our available dogs. \n\nWhat You’ll Find at Our Parade Adoption Event\n  \n\n\n\nMeet adoptable dogs ready for loving homes \n\n\nChat with our team about adoption\, fostering & volunteer opportunities \n\n\nGet information about our upcoming adoption events in the Hudson Valley \n\n\nTake home all the warm-and-fuzzy holiday vibes (and maybe a pup!) \n\n\n  \n\nWhy Attend the Mahopac Parade Adoption Event?\n  \nThe Thanksgiving Parade draws families from across Putnam County — making it the perfect place to meet your next pet while supporting a local animal rescue. Our pups will be bundled up and ready to charm their way straight into your heart. \nWhether you’re actively looking to adopt or just want to stop by and say hi\, we’d love to see you! \n\n\n  \n\n🦃🐾 Join Us for a Festive Night of Adoptions!\n  \nCatch Happy Life Animal Rescue at the Mahopac Thanksgiving Parade on Saturday\, November 22 from 5–7 PM. \nFind us by the Mahopac Fire Department — your new best friend might be strutting the parade route!
URL:https://happylifeanimalrescue.org/event/mahopac-thanksgiving-parade-pet-adoption-event-saturday-november-22/
LOCATION:mahopac Fire House\, 741 US-6\, Mahopac\, NY\, 10541\, United States
END:VEVENT
BEGIN:VEVENT
DTSTART;TZID=America/New_York:20251122T110000
DTEND;TZID=America/New_York:20251122T140000
DTSTAMP:20260421T203240
CREATED:20251117T184708Z
LAST-MODIFIED:20251117T184708Z
UID:2911-1763809200-1763820000@happylifeanimalrescue.org
SUMMARY:Adoption Event: Find Your New Best Friend This Saturday in Pawling!
DESCRIPTION:📅 Saturday\, November 22 \n⏰ 11 AM – 2 PM \n📍 Happy Life Animal Rescue Adoption Center — 550 Route 22\, Pawling\, NY \nLooking for the perfect pup or cuddly cat to add to your family? Swing by our Happy Life Animal Rescue Adoption Center this Saturday for a paws-itively heartwarming day of adoptions in Pawling\, NY! \nWe’ll have an exciting lineup of dogs and cats ready to meet you\, from playful puppies to sweet adult animals dreaming of a cozy home. Our team will be on-site to help match you with the perfect companion and walk you through the easy adoption process. \n\nWhat to Expect at Our Pawling Adoption Event\n  \n\n\n\nMeet a variety of adoptable dogs and cats \n\n\nLearn about each animal’s personality\, needs & background \n\n\nChat with our team about adopting\, fostering & volunteering \n\n\nEnjoy a friendly\, family-friendly atmosphere \n\n\nSupport a local Hudson Valley animal rescue \n\n\n  \nWhether you’re actively searching or just starting to think about adding a furry friend to your life\, this is the perfect chance to visit our rescue\, ask questions\, and maybe fall in love. (It happens. A lot. We fully support sudden heart-melting.) \n\nWhy Visit Our Pawling Adoption Center?\n  \nOur adoption center is right in the heart of Pawling and dedicated to giving every animal a real shot at a happy life. By adopting through us\, you’re saving a life and making room for the next animal in need. \n\n\n  \n\n💛 Ready to Meet Your New Best Friend?\n  \nJoin us this Saturday from 11–2 at Happy Life Animal Rescue\, 550 Route 22\, Pawling\, NY. \nYour future pet is already practicing their “love me” eyes — don’t keep them waiting!
URL:https://happylifeanimalrescue.org/event/adoption-event-find-your-new-best-friend-this-saturday-in-pawling/
LOCATION:Happy Life Animal Rescue Adoption Center\, 550 Route 22\, Pawling\, New York\, 12564\, United States
END:VEVENT
BEGIN:VEVENT
DTSTART;TZID=America/New_York:20251120T180000
DTEND;TZID=America/New_York:20251120T190000
DTSTAMP:20260421T203240
CREATED:20251117T185443Z
LAST-MODIFIED:20251117T185443Z
UID:2916-1763661600-1763665200@happylifeanimalrescue.org
SUMMARY:Volunteer Orientation – Get Involved with Happy Life Animal Rescue in Pawling
DESCRIPTION:📅 Thursday\, November 20 \n⏰ 6:00 PM \n📍 Happy Life Animal Rescue Adoption Center — 550 Route 22\, Pawling\, NY \nWant to help save lives\, walk dogs\, cuddle cats\, and support a local animal rescue? Join us for our Volunteer Orientationat Happy Life Animal Rescue in Pawling\, NY! \nThis orientation is the first step to becoming an official volunteer with our rescue. Whether you’re interested in helping at adoption events\, assisting with animal care\, transport\, cleaning\, fundraising\, or behind-the-scenes tasks\, we’ll walk you through everything you need to know. \n\n🐾 What We’ll Cover at Volunteer Orientation\n  \n\n\n\nWho we are and how Happy Life Animal Rescue operates \n\n\nDifferent volunteer roles (kennel help\, events\, transport\, fostering & more) \n\n\nSafety\, animal handling\, and basic procedures \n\n\nHow to sign up for shifts and stay in the loop \n\n\nQ&A with our team \n\n\n  \n\nWho Should Attend?\n  \n\n\n\nAnyone looking for animal rescue volunteer opportunities in Pawling\, NY \n\n\nStudents needing community service hours \n\n\nAdults and families wanting to give back to the community \n\n\nAnimal lovers who want to make a real impact \n\n\n  \nNo prior experience is needed — just a big heart\, willingness to learn\, and a readiness to get a little fur on your clothes. \n\n\n  \n\n💛 Ready to Volunteer?\n  \nJoin us on Thursday\, November 20 at 6 PM at: \nHappy Life Animal Rescue \n550 Route 22 \nPawling\, NY 12564 \nCome learn how you can help give local cats and dogs the happy lives they deserve!
URL:https://happylifeanimalrescue.org/event/volunteer-orientation-get-involved-with-happy-life-animal-rescue-in-pawling/
LOCATION:Happy Life Animal Rescue Adoption Center\, 550 Route 22\, Pawling\, New York\, 12564\, United States
END:VEVENT
BEGIN:VEVENT
DTSTART;TZID=America/New_York:20251115T110000
DTEND;TZID=America/New_York:20251115T150000
DTSTAMP:20260421T203240
CREATED:20251106T201821Z
LAST-MODIFIED:20251106T201821Z
UID:2908-1763204400-1763218800@happylifeanimalrescue.org
SUMMARY:Pawling Adoption Center Open House – Meet Adoptable Pets!
DESCRIPTION:Come join us on Saturday\, November 15 for our Pawling Adoption Center Open House\, happening from 11 AM – 3 PM right here at our home base in Pawling\, NY. Whether you’re actively looking to adopt a pet or simply curious about local rescue work\, this is the perfect day to stop by\, meet our team\, and spend some time with our adoptable dogs and cats. \nWe know there’s a lot happening in the community that day\, and if you’re already out exploring local animal events\, we’d love to invite you to swing by and visit us too. Our doors will be open\, our animals will be ready for meet-and-greets\, and our volunteers will be here to welcome you\, answer questions\, and share more about how Happy Life Animal Rescueserves the Pawling animal rescue community. \nOur Open House is designed to be relaxed\, friendly\, and fun. You can move at your own pace — meet the dogs\, get to know the cats\, learn about their personalities\, and see how they live while they wait for their forever families. No pressure\, no rush\, just real connection time. If you fall for someone (and it happens… a lot)\, we’ll be here to help guide you through our simple adoption process. \nDuring the Open House\, you’ll be able to: \n• Meet adoptable dogs and cats in person \n• Learn about our rescue mission and impact in Pawling \n• Ask questions about fostering\, volunteering\, or donating \n• Enjoy a warm\, welcoming environment (we’re a rescue\, not a showroom) \nHappy Life Animal Rescue is a local\, community-based organization dedicated to helping animals find loving homes. When you adopt from us\, you’re not just taking home a pet — you’re making space for us to rescue another one. Everything we do is powered by adopters\, volunteers\, fosters\, and neighbors who care. \nSo if you’re searching for Pawling animal rescue options\, looking to adopt a dog or adopt a cat in Pawling\, or simply wanting to be part of something meaningful\, we’d be thrilled to have you stop by our Open House. Stay for five minutes or spend the whole afternoon — either way\, we’d love to meet you.
URL:https://happylifeanimalrescue.org/event/pawling-adoption-center-open-house-meet-adoptable-pets/
LOCATION:Happy Life Animal Rescue Adoption Center\, 550 Route 22\, Pawling\, New York\, 12564\, United States
END:VEVENT
BEGIN:VEVENT
DTSTART;TZID=America/New_York:20251109T110000
DTEND;TZID=America/New_York:20251109T150000
DTSTAMP:20260421T203240
CREATED:20251106T201312Z
LAST-MODIFIED:20251106T201312Z
UID:2906-1762686000-1762700400@happylifeanimalrescue.org
SUMMARY:Pocketbook Bingo Pet Adoption Event
DESCRIPTION:Join us this Sunday for a special Pocketbook Bingo & Pet Adoption Event right here in Pawling! We’re bringing adorable\, adoptable cats and dogs all ready to meet their new families. If you’ve been thinking about adopting\, or your heart melts just a little too easily when you see puppy eyes… this is your sign. \nSwing by Pocketbook Bingo between bingo rounds to say hi\, cuddle some cuties\, and maybe fall in love with your new best friend. You’ll get to enjoy all the excitement of bingo\, plus the joy of helping animals find loving homes. It’s basically a win-win (or bingo-bingo?). \nThis is a same-day adoption event\, and we’ll be there to chat\, guide you\, answer questions\, and match you with the pet that fits your vibe. \nWhat to Expect: \n• Adorable rescue dogs & cats \n• Live Pocketbook Bingo fun \n• Meet & greet cuddles \n• Adoption counselors on site \n• Feel-good community time \nWhether you’re here for the bingo or the furballs\, we’d love to have you!
URL:https://happylifeanimalrescue.org/event/pocketbook-bingo-pet-adoption-event/
LOCATION:lake side park\, 2 lake side drive\, pawling\, New York\, 12564\, United States
END:VEVENT
BEGIN:VEVENT
DTSTART;TZID=America/New_York:20251108T120000
DTEND;TZID=America/New_York:20251108T150000
DTSTAMP:20260421T203240
CREATED:20251029T223112Z
LAST-MODIFIED:20251029T223202Z
UID:2901-1762603200-1762614000@happylifeanimalrescue.org
SUMMARY:🐾 PetSmart Adoption Event in Mohegan Lake\, NY – Saturday\, November 8th!
DESCRIPTION:Location: PetSmart\, 3131 East Main Street\, Mohegan Lake\, NY 10547 \nDate: Saturday\, November 8\, 2025 \nTime: 12:00 PM – 3:00 PM \nGet ready for a tail-wagging good time! Happy Life Animal Rescue is heading to PetSmart Mohegan Lake for another amazing pet adoption event. If you’ve been thinking about adding a furry friend to your family\, this is the perfect chance to meet some adorable rescue dogs and find your perfect match! \nOur team will be bringing a variety of lovable pups—big\, small\, playful\, cuddly\, and everything in between. Each one has their own story and is waiting to start a new chapter—with you! \nWhether you’re a seasoned pet parent or brand-new to the adoption world\, our friendly volunteers will be there to answer your questions\, walk you through the adoption process\, and share how we make sure every match is a happy one. \n🐶 What You Can Expect at the Event: \n\n\nMeet adoptable dogs rescued from across the country \n\n\nLearn about PetSmart adoptions in Mohegan Lake and how easy it is to adopt \n\n\nChat with our volunteers about fostering\, donating\, and getting involved \n\n\nSnap some photos with your favorite pups and share them using #HappyLifeAnimalRescue \n\n\nBring your family—this is a fun\, friendly community event for all ages! \n\n\n  \n📍 Event Details: \n📅 Date: Saturday\, November 8\, 2025 \n🕛 Time: 12:00 PM – 3:00 PM \n📍 Location: PetSmart\, 3131 East Main Street\, Mohegan Lake\, NY 10547 \n\n  \n🐕 \nFind PetSmart Adoptions Near Mohegan Lake NY\n  \nSearching for PetSmart adoptions near Mohegan Lake NY? Happy Life Animal Rescue is proud to partner with PetSmart Charities to bring adoptable dogs to the community. Each adoption helps us save more lives and connect more families with the unconditional love of a rescue pet. \nSo mark your calendars\, grab a leash (and maybe a few treats)\, and come meet your new best friend!
URL:https://happylifeanimalrescue.org/event/%f0%9f%90%be-petsmart-adoption-event-in-mohegan-lake-ny-saturday-november-8th/
END:VEVENT
BEGIN:VEVENT
DTSTART;TZID=America/New_York:20251101T110000
DTEND;TZID=America/New_York:20251101T140000
DTSTAMP:20260421T203240
CREATED:20251029T222923Z
LAST-MODIFIED:20251029T222923Z
UID:2899-1761994800-1762005600@happylifeanimalrescue.org
SUMMARY:🐾 Pet Adoption Event at Petco Brookfield CT – Saturday\, November 1st!
DESCRIPTION:Location: Petco\, 169 Federal Road\, Brookfield\, CT \nDate: Saturday\, November 1\, 2025 \nTime: 11:00 AM – 2:00 PM \nLooking for your new best friend? Join Happy Life Animal Rescue at Petco Brookfield CT for a heartwarming pet adoption event! We’ll have adorable\, adoptable dogs of all ages ready to meet their future families. Whether you’re searching for a playful puppy or a laid-back cuddle buddy\, you might just find your perfect match this weekend. \nOur team will be on-site to chat about the adoption process\, upcoming events\, and ways to get involved with our rescue. Come say hi\, meet the pups\, and maybe go home with a new four-legged family member! \n✅ What to Expect: \n\n\n\nMeet adoptable dogs from Happy Life Animal Rescue \n\n\nLearn about volunteering and fostering \n\n\nAsk questions about our adoption process \n\n\nTake photos and share the love on social media! \n\n\n  \n📍 Address: \nPetco – 169 Federal Road\, Brookfield\, CT 06804 \n⏰ Time: \n11:00 AM – 2:00 PM \n\n\n  \n\n🐶 \nJoin Us for Pet Adoptions Near Brookfield CT\n  \nLooking for pet adoptions near Brookfield CT? Our Petco event is the perfect chance to meet local adoptable dogs and find your new furry companion. Every adoption helps us make room for another life to save\, so come out and help make tails wag this Saturday!
URL:https://happylifeanimalrescue.org/event/%f0%9f%90%be-pet-adoption-event-at-petco-brookfield-ct-saturday-november-1st/
LOCATION:Petco Brookfield\, 169 Federal Rd\, Brookfield\, CT\, 06804\, United States
END:VEVENT
BEGIN:VEVENT
DTSTART;TZID=America/New_York:20251026T120000
DTEND;TZID=America/New_York:20251026T150000
DTSTAMP:20260421T203240
CREATED:20251007T213358Z
LAST-MODIFIED:20251007T213358Z
UID:2848-1761480000-1761490800@happylifeanimalrescue.org
SUMMARY:National Adoption Weekend at PetSmart Mohegan Lake!
DESCRIPTION:📅 Sunday\, October 26th \n🕛 12 PM – 3 PM \n📍 PetSmart\, 3131 E Main St\, Mohegan Lake\, NY 10547 \nEnd your weekend with wagging tails and happy hearts! 💕 Join Happy Life Animal Rescue on Sunday\, October 26th from 12 PM to 3 PM at PetSmart in Mohegan Lake\, NY for PetSmart’s National Adoption Weekend — one of the most exciting adoption events of the year! \nWe’ll be on-site with a variety of adoptable dogs and cats\, each hoping to find their perfect match and forever home. From playful puppies to cuddly kittens\, every furry friend has their own rescue story and is ready to start a brand-new chapter with you. \nNational Adoption Weekend is all about celebrating second chances and the love that rescue animals bring into our lives. Our friendly volunteers will be there to help answer questions\, introduce you to our adoptable pets\, and walk you through our easy adoption process. \n🐾 How to Adopt: \nTo make the process quick and easy\, be sure to register to adopt ahead of time at happylifeanimalrescue.org. Once registered\, you can meet your future best friend in person and take the first step toward a lifetime of love. \nThis event is part of PetSmart Charities’ National Adoption Weekend\, a nationwide celebration helping thousands of pets find homes every year. Come visit us\, meet the animals\, and maybe leave with your heart a little fuller (and your car a little furrier)! 🐶🐱
URL:https://happylifeanimalrescue.org/event/national-adoption-weekend-at-petsmart-mohegan-lake/
LOCATION:PetSmart Mohegan
END:VEVENT
BEGIN:VEVENT
DTSTART;TZID=America/New_York:20251025T120000
DTEND;TZID=America/New_York:20251025T150000
DTSTAMP:20260421T203240
CREATED:20251007T212618Z
LAST-MODIFIED:20251007T212649Z
UID:2846-1761393600-1761404400@happylifeanimalrescue.org
SUMMARY:National Adoption Weekend at PetSmart Newburgh!
DESCRIPTION:National Adoption Weekend at PetSmart Newburgh!\n  \n📅 Saturday\, October 25th \n🕛 12 PM – 3 PM \n156 Old Little Britain Rd\, Newburgh\, NY 12550 \n  \nGet ready to meet your new best friend during PetSmart’s National Adoption Weekend with Happy Life Animal Rescue! 🐾 Join us on Saturday\, October 25th from 12 PM to 3 PM at the PetSmart in Newburgh\, NY for one of the biggest adoption events of the year. \nWe’ll be bringing some of our most adorable adoptable dogs and cats\, each with their own rescue story and heart full of love to give. Whether you’re looking for a loyal dog to explore the Hudson Valley with or a snuggly kitten to keep you company through the colder months\, there’s no better time to adopt. \nNational Adoption Weekend is all about celebrating the power of adoption — every pet deserves a home\, and every home can be made happier by a pet! Our team will be there to help answer questions\, introduce you to our furry friends\, and walk you through our simple adoption process. \n🐕 How to Get Started: \nTo save time at the event\, please register to adopt ahead of time at happylifeanimalrescue.org. Once registered\, you’ll be all set to meet your potential new family member in person! \nThis special adoption event is hosted in partnership with PetSmart Charities\, who work year-round to help animals find loving homes across the country. Come out\, say hello\, and help us make this National Adoption Weekend in Newburgh a huge success! ❤️
URL:https://happylifeanimalrescue.org/event/national-adoption-weekend-at-petsmart-newburgh/
LOCATION:Petsmart Newburgh\, 156 Old Little Britain Rd\, Newburgh\, NY\, 12550\, United States
END:VEVENT
END:VCALENDAR