BEGIN:VCALENDAR
VERSION:2.0
PRODID:-//Happy Life Animal Rescue - ECPv6.15.17.1//NONSGML v1.0//EN
CALSCALE:GREGORIAN
METHOD:PUBLISH
X-WR-CALNAME:Happy Life Animal Rescue
X-ORIGINAL-URL:https://happylifeanimalrescue.org
X-WR-CALDESC:Events for Happy Life Animal Rescue
REFRESH-INTERVAL;VALUE=DURATION:PT1H
X-Robots-Tag:noindex
X-PUBLISHED-TTL:PT1H
BEGIN:VTIMEZONE
TZID:America/New_York
BEGIN:DAYLIGHT
TZOFFSETFROM:-0500
TZOFFSETTO:-0400
TZNAME:EDT
DTSTART:20250309T070000
END:DAYLIGHT
BEGIN:STANDARD
TZOFFSETFROM:-0400
TZOFFSETTO:-0500
TZNAME:EST
DTSTART:20251102T060000
END:STANDARD
BEGIN:DAYLIGHT
TZOFFSETFROM:-0500
TZOFFSETTO:-0400
TZNAME:EDT
DTSTART:20260308T070000
END:DAYLIGHT
BEGIN:STANDARD
TZOFFSETFROM:-0400
TZOFFSETTO:-0500
TZNAME:EST
DTSTART:20261101T060000
END:STANDARD
BEGIN:DAYLIGHT
TZOFFSETFROM:-0500
TZOFFSETTO:-0400
TZNAME:EDT
DTSTART:20270314T070000
END:DAYLIGHT
BEGIN:STANDARD
TZOFFSETFROM:-0400
TZOFFSETTO:-0500
TZNAME:EST
DTSTART:20271107T060000
END:STANDARD
END:VTIMEZONE
BEGIN:VEVENT
DTSTART;TZID=America/New_York:20260523T120000
DTEND;TZID=America/New_York:20260523T160000
DTSTAMP:20260421T132240
CREATED:20260414T172217Z
LAST-MODIFIED:20260414T172234Z
UID:3108-1779537600-1779552000@happylifeanimalrescue.org
SUMMARY:Adopt Joy: Dog Adoption Event in Mohegan Lake\, NY (PetSmart 5/23)
DESCRIPTION:Looking for dog adoption events in Mohegan Lake\, NY or hoping to adopt a dog near you this Memorial Day weekend? Come find your perfect match at our Adopt Joy Adoption Event at PetSmart on Saturday\, May 23 from 12–4 PM 🐶💛 \nWe’re bringing a full lineup of incredible\, adoptable dogs—more time\, more pups\, more chances to fall in love. From playful puppies to sweet\, easygoing companions\, your future best friend might just be waiting for you here. \nWhether you’re ready to adopt or just stopping by to meet some amazing dogs (no judgment\, we see you 😄)\, this is one event you won’t want to miss. \nWhat to expect: \n\n\nA wide variety of adoptable dogs from Happy Life Animal Rescue \n\n\nMeet-and-greets to help find your perfect fit \n\n\nSame-day adoptions available \n\n\nA fun\, welcoming PetSmart environment \n\n\n  \nAll of our dogs are: \n✔️ Spayed/neutered \n✔️ Vaccinated \n✔️ Microchipped \n✔️ Ready for their forever homes \nHow to adopt: \nRegister to adopt on our website ahead of time to save time at the event. Adoptions are first-come\, first-served\, so we recommend arriving early if you have your eye on a specific pup!
URL:https://happylifeanimalrescue.org/event/adopt-joy-dog-adoption-event-in-mohegan-lake-ny-petsmart-5-23/
LOCATION:PetSmart Mohegan
END:VEVENT
END:VCALENDAR